BEGIN:VCALENDAR
PRODID:-//github.com/rianjs/ical.net//NONSGML ical.net 4.0//EN
VERSION:2.0
BEGIN:VEVENT
DESCRIPTION:Varje tisdag! Finfina erbjudanden för dig som fyllt senior
DTEND:20281214T235959
DTSTAMP:20260424T141838Z
DTSTART;VALUE=DATE:20250303
LOCATION:Hela huset
SEQUENCE:0
SUMMARY:Seniortisdag
UID:44f643d7-d6a6-49c5-99a0-31e48bcfa527
END:VEVENT
END:VCALENDAR
